BEGIN:VCALENDAR
VERSION:2.0
PRODID:-//ChamberMaster//Event Calendar 2.0//EN
METHOD:PUBLISH
X-PUBLISHED-TTL:P3D
REFRESH-INTERVAL:P3D
CALSCALE:GREGORIAN
BEGIN:VEVENT
DTSTART:20201106T210000Z
DTEND:20201106T220000Z
X-MICROSOFT-CDO-ALLDAYEVENT:FALSE
SUMMARY:Virtual Concert: HispaNOLA Live! With Amigos do Samba
DESCRIPTION:Welcome to HispaNola Live!\, a weekly live music show presented by the Mayor's Office of Cultural Economy - Embrace the Culture Series. Every week we bring you the best in live music\, entertainment all while highlighting some of the city's most influential Latin culture bearers. This concert features Amigos do Samba. Enjoy Jazz Music from home with the New Orleans Jazz Museum! Join the Jazz Museum online for weekly virtual concerts\, in which dynamic jazz musicians perform live from the Jazz Museum! Tune in on facebook.com/nolajazzmuseum/live to watch for free.
X-ALT-DESC;FMTTYPE=text/html:Welcome to HispaNola Live!\, a weekly live music show presented by the Mayor&#39\;s Office of Cultural Economy - Embrace the Culture Series. Every week we bring you the best in live music\, entertainment all while highlighting some of the city&rsquo\;s most influential Latin culture bearers. This concert features Amigos do Samba. Enjoy Jazz Music from home with the New Orleans Jazz Museum! Join the Jazz Museum online for weekly virtual concerts\, in which dynamic jazz musicians perform live from the Jazz Museum! Tune in on facebook.com/nolajazzmuseum/live to watch for free.
LOCATION:New Orleans Jazz Museum
UID:e.611.14676
SEQUENCE:3
DTSTAMP:20260419T134555Z
URL:https://www.neworleanschamber.org/events/details/virtual-concert-hispanola-live-with-amigos-do-samba-14676
END:VEVENT

END:VCALENDAR
