BEGIN:VCALENDAR
VERSION:2.0
PRODID:-//ChamberMaster//Event Calendar 2.0//EN
METHOD:PUBLISH
X-PUBLISHED-TTL:P3D
REFRESH-INTERVAL:P3D
CALSCALE:GREGORIAN
BEGIN:VEVENT
DTSTART:20191205T233000Z
DTEND:20191206T020000Z
X-MICROSOFT-CDO-ALLDAYEVENT:FALSE
SUMMARY:Thirsty Thursday at Grande Krewe Fine Wine and Spirits
DESCRIPTION:Grande Krewe Fine Wine and Spirits welcomes Scot\, the Winemaker for Trione Wines for a free wine tasting. We will be pouring Pinot Noir\, Chardonnay\, Cabernet\, Bordeaux Blend and a Zinfandel.
X-ALT-DESC;FMTTYPE=text/html:Grande Krewe Fine Wine and Spirits welcomes Scot\, the Winemaker for Trione Wines for a free wine tasting. We will be pouring Pinot Noir\, Chardonnay\, Cabernet\, Bordeaux Blend and a Zinfandel.
LOCATION:Grande Krewe Fine Wine and Spirits 2305 Decatur Street New Orleans\, LA 70117
UID:e.611.14231
SEQUENCE:3
DTSTAMP:20260421T103136Z
URL:https://www.neworleanschamber.org/events/details/thirsty-thursday-at-grande-krewe-fine-wine-and-spirits-14231
END:VEVENT

END:VCALENDAR
