BEGIN:VCALENDAR
VERSION:2.0
PRODID:-//ChamberMaster//Event Calendar 2.0//EN
METHOD:PUBLISH
X-PUBLISHED-TTL:P3D
REFRESH-INTERVAL:P3D
CALSCALE:GREGORIAN
BEGIN:VEVENT
DTSTART:20260502T000000Z
DTEND:20260502T020000Z
X-MICROSOFT-CDO-ALLDAYEVENT:FALSE
SUMMARY:The Oldest Profession - Solo Comedy Show at Actor's Apothecary May 1st\, 2nd
DESCRIPTION:The Oldest Profession is a mad dash through 10\,000 years of history from a sex worker?s perspective.\nKaytlin Bailey offers a new angle on the world?s oldest profession\, reframing the story of western civilization. Weaving history\, stand-up comedy\, and lived experience in a fast-paced and profoundly moving hour-long solo show.
X-ALT-DESC;FMTTYPE=text/html:The Oldest Profession is a mad dash through 10\,000 years of history from a sex worker?s perspective.\nKaytlin Bailey offers a new angle on the world?s oldest profession\, reframing the story of western civilization. Weaving history\, stand-up comedy\, and lived experience in a fast-paced and profoundly moving hour-long solo show. 
LOCATION:The Actor's Apothecary 1506 Prytania St. New Orleans\, LA 70130
UID:e.611.22396
SEQUENCE:3
DTSTAMP:20260421T163706Z
URL:https://www.neworleanschamber.org/events/details/the-oldest-profession-solo-comedy-show-at-actor-s-apothecary-may-1st-2nd-22396
END:VEVENT

END:VCALENDAR
