BEGIN:VCALENDAR
VERSION:2.0
PRODID:-//ChamberMaster//Event Calendar 2.0//EN
METHOD:PUBLISH
X-PUBLISHED-TTL:P3D
REFRESH-INTERVAL:P3D
CALSCALE:GREGORIAN
BEGIN:VEVENT
DTSTART:20260429T003000Z
DTEND:20260429T030000Z
X-MICROSOFT-CDO-ALLDAYEVENT:FALSE
SUMMARY:Piano Groove
DESCRIPTION:One night only\, do not miss this - An intimate night of Piano @ The Columns Hotel. Nola at its finest - Joe Ashlar\, Seth Finch\, & Judith Owen Ft David Blenkhorn LIMITED SEATING - only 55 seats!
X-ALT-DESC;FMTTYPE=text/html:One night only\, do not miss this - An intimate night of Piano @ The Columns Hotel. Nola at its finest - Joe Ashlar\, Seth Finch\, &amp\; Judith Owen Ft David Blenkhorn LIMITED SEATING - only 55 seats!
LOCATION:The Columns Hotel\, 3811 St. Charles Ave.\, New Orleans\, LA 70115
UID:e.611.22405
SEQUENCE:3
DTSTAMP:20260422T183352Z
URL:https://www.neworleanschamber.org/events/details/piano-groove-22405
END:VEVENT

END:VCALENDAR
