BEGIN:VCALENDAR
VERSION:2.0
PRODID:-//ChamberMaster//Event Calendar 2.0//EN
METHOD:PUBLISH
X-PUBLISHED-TTL:P3D
REFRESH-INTERVAL:P3D
CALSCALE:GREGORIAN
BEGIN:VEVENT
DTSTART:20210508T170000Z
DTEND:20210508T170000Z
X-MICROSOFT-CDO-ALLDAYEVENT:FALSE
SUMMARY:Mother's Day Market at Happy Raptor
DESCRIPTION:Join us on Mother's Day Weekend for Food\, Art\, and of course\, #504Rum Cocktails! We're hosting our first-ever Mother's Day Market on Saturday\, May 8 from 1 PM - 5 PM. It's the perfect outing to take the mothers in your life on\, and if you forgot about Mother's Day\, we'll have plenty of art vendors set up for the perfect last-minute gifts! (Our tasting room will be open from 12 PM - 7 PM\, market starts at 1 PM!)
X-ALT-DESC;FMTTYPE=text/html:Join us on Mother&#39\;s Day Weekend for Food\, Art\, and of course\, #504Rum Cocktails! We&#39\;re hosting our first-ever Mother&#39\;s Day Market on Saturday\, May 8 from 1 PM - 5 PM. It&#39\;s the perfect outing to take the mothers in your life on\, and if you forgot about Mother&#39\;s Day\, we&#39\;ll have plenty of art vendors set up for the perfect last-minute gifts! (Our tasting room will be open from 12 PM - 7 PM\, market starts at 1 PM!)
LOCATION:1512 Carondelet St\, New Orleans LA
UID:e.611.15234
SEQUENCE:3
DTSTAMP:20260420T214603Z
URL:https://www.neworleanschamber.org/events/details/mother-s-day-market-at-happy-raptor-15234
END:VEVENT

END:VCALENDAR
