BEGIN:VCALENDAR
VERSION:2.0
PRODID:-//ChamberMaster//Event Calendar 2.0//EN
METHOD:PUBLISH
X-PUBLISHED-TTL:P3D
REFRESH-INTERVAL:P3D
CALSCALE:GREGORIAN
BEGIN:VEVENT
DTSTART:20260510T150000Z
DTEND:20260510T220000Z
X-MICROSOFT-CDO-ALLDAYEVENT:FALSE
SUMMARY:Mother's Day at Audubon Zoo with Irma Thomas
DESCRIPTION:A beloved Mother's Day tradition returns! Celebrate under the oak trees with the legendary Irma Thomas\, the 'Soul Queen of New Orleans\,' on Sunday\, May 10. With spring in full bloom and the animals out to enjoy\, it's the perfect day for music\, family\, and special memories with loved ones. Also check out some family-friendly activities celebrating your mom\, our Zoo moms\, and Mother Earth. Mothers will enjoy 50% off Zoo Admission on Mother's Day! Purchase an Audubon membership today and bring along the whole family. This event is included with Zoo admission and free for select Audubon Members*\, who will also enjoy access to an exclusive concert viewing area.
X-ALT-DESC;FMTTYPE=text/html:A beloved Mother&rsquo\;s Day tradition returns! Celebrate under the oak trees with the legendary Irma Thomas\, the &lsquo\;Soul Queen of New Orleans\,&rsquo\; on Sunday\, May 10. With spring in full bloom and the animals out to enjoy\, it&rsquo\;s the perfect day for music\, family\, and special memories with loved ones. Also check out some family-friendly activities celebrating your mom\, our Zoo moms\, and Mother Earth. Mothers will enjoy 50% off Zoo Admission on Mother&rsquo\;s Day! Purchase an Audubon membership today and bring along the whole family. This event is included with Zoo admission and free for select Audubon Members*\, who will also enjoy access to an exclusive concert viewing area.
LOCATION:Audubon Zoo
UID:e.611.22399
SEQUENCE:3
DTSTAMP:20260422T185822Z
URL:https://www.neworleanschamber.org/events/details/mother-s-day-at-audubon-zoo-with-irma-thomas-22399
END:VEVENT

END:VCALENDAR
