BEGIN:VCALENDAR
VERSION:2.0
PRODID:-//ChamberMaster//Event Calendar 2.0//EN
METHOD:PUBLISH
X-PUBLISHED-TTL:P3D
REFRESH-INTERVAL:P3D
CALSCALE:GREGORIAN
BEGIN:VEVENT
DTSTART:20260408T000000Z
DTEND:20260408T020000Z
X-MICROSOFT-CDO-ALLDAYEVENT:FALSE
SUMMARY:Mariah The Scientist at The Fillmore
DESCRIPTION:Get ready to have the ultimate night of your existence with Mariah The Scientist! Absolutely nothing can compare to the beat and vibe of R&B\, and morphing that into a on-stage spectacle is undoubtedly something out of this sphere. Grasp this moment to groove to all one of Mariah The Scientist's most excellent songs!
X-ALT-DESC;FMTTYPE=text/html:Get ready to have the ultimate night of your existence with Mariah The Scientist! Absolutely nothing can compare to the beat and vibe of R&amp\;B\, and morphing that into a on-stage spectacle is undoubtedly something out of this sphere. Grasp this moment to groove to all one of Mariah The Scientist&#39\;s most excellent songs!
LOCATION:Fillmore New Orleans\, 6 Canal Street\, New Orleans\, Louisiana 70130
UID:e.611.22148
SEQUENCE:3
DTSTAMP:20260424T124259Z
URL:https://www.neworleanschamber.org/events/details/mariah-the-scientist-at-the-fillmore-22148
END:VEVENT

END:VCALENDAR
