BEGIN:VCALENDAR
VERSION:2.0
PRODID:-//ChamberMaster//Event Calendar 2.0//EN
METHOD:PUBLISH
X-PUBLISHED-TTL:P3D
REFRESH-INTERVAL:P3D
CALSCALE:GREGORIAN
BEGIN:VEVENT
DTSTART:20170920T170000Z
DTEND:20170920T180000Z
X-MICROSOFT-CDO-ALLDAYEVENT:FALSE
SUMMARY:Lunch Seminar - Drug Cost Drivers: Biologics and the Backlash
DESCRIPTION:As drug spending and utilization continues to grow\, more and more venture capital is flowing into pharma\, and even older drugs are being bought up and re-branded\, re-packaged\, and prices increased 100's of percent. What kind of impact is that having among Employers and Carriers that sponsor health plans? This presentation will examine trends in drug pricing\, drug purchasing insurance products\, and what Pharmacy Managers for private carriers are going to do next. Presented by Mike Bertaut\, Healthcare Economist and Exchange Coordinator at Blue Cross Blue Shield of Louisiana
X-ALT-DESC;FMTTYPE=text/html:As drug spending and utilization continues to grow\, more and more venture capital is flowing into pharma\, and even older drugs are being bought up and re-branded\, re-packaged\, and prices increased 100&rsquo\;s of percent. What kind of impact is that having among Employers and Carriers that sponsor health plans? This presentation will examine trends in drug pricing\, drug purchasing insurance products\, and what Pharmacy Managers for private carriers are going to do next. Presented by Mike Bertaut\, Healthcare Economist and Exchange Coordinator at Blue Cross Blue Shield of Louisiana
LOCATION:Main Conference Room\, New Orleans BioInnovation Center\, 1441 Canal Street\, New Orleans\, LA 70112
UID:e.611.8786
SEQUENCE:3
DTSTAMP:20260419T234432Z
URL:https://www.neworleanschamber.org/events/details/lunch-seminar-drug-cost-drivers-biologics-and-the-backlash-8786
END:VEVENT

END:VCALENDAR
