BEGIN:VCALENDAR
VERSION:2.0
PRODID:-//ChamberMaster//Event Calendar 2.0//EN
METHOD:PUBLISH
X-PUBLISHED-TTL:P3D
REFRESH-INTERVAL:P3D
CALSCALE:GREGORIAN
BEGIN:VEVENT
DTSTART:20250917T230000Z
DTEND:20250918T013000Z
X-MICROSOFT-CDO-ALLDAYEVENT:FALSE
SUMMARY:Latin Skate Night presented by VIVA NOLA Magazine
DESCRIPTION:Latin Skate Night presented by VIVA NOLA Magazine $10 to Skate An ALL-AGES Event!** Enjoy Latin Music by DJ Emotion. Families and attendees can participate in raffles to win prizes from VIVA NOLA Magazine and Tutti Frutti. Wednesday\, September 17th @6:00 PM
X-ALT-DESC;FMTTYPE=text/html:Latin Skate Night presented by VIVA NOLA Magazine $10 to Skate An ALL-AGES Event!** Enjoy Latin Music by DJ Emotion. Families and attendees can participate in raffles to win prizes from VIVA NOLA Magazine and Tutti Frutti. Wednesday\, September 17th @6:00 PM
LOCATION:Airline Skate Center 6711 Airline Dr. Metairie\, LA 70003
UID:e.611.21471
SEQUENCE:3
DTSTAMP:20260421T084605Z
URL:https://www.neworleanschamber.org/events/details/latin-skate-night-presented-by-viva-nola-magazine-09-17-2025-21471
END:VEVENT

END:VCALENDAR
