BEGIN:VCALENDAR
VERSION:2.0
PRODID:-//ChamberMaster//Event Calendar 2.0//EN
METHOD:PUBLISH
X-PUBLISHED-TTL:P3D
REFRESH-INTERVAL:P3D
CALSCALE:GREGORIAN
BEGIN:VEVENT
DTSTART:20220517T193000Z
DTEND:20220517T210000Z
X-MICROSOFT-CDO-ALLDAYEVENT:FALSE
SUMMARY:Intermediate Grantwriting Workshop
DESCRIPTION:Are you ready to take your grantwriting to the next level? Intermediate Grantwriting will help you improve your grant proposals and raise more money for your nonprofit. Through this live\, virtual workshop\, you'll learn specific ways to make your proposal more appealing to a funder\, including how to make a compelling case to someone unfamiliar with your nonprofit's work and what kind of research and data to include.
X-ALT-DESC;FMTTYPE=text/html:Are you ready to take your grantwriting to the next level? Intermediate Grantwriting will help you improve your grant proposals and raise more money for your nonprofit. Through this live\, virtual workshop\, you&#39\;ll learn specific ways to make your proposal more appealing to a funder\, including how to make a compelling case to someone unfamiliar with your nonprofit&#39\;s work and what kind of research and data to include.
LOCATION:ZOOM
UID:e.611.15720
SEQUENCE:3
DTSTAMP:20260419T205504Z
URL:https://www.neworleanschamber.org/events/details/intermediate-grantwriting-workshop-05-17-2022-15720
END:VEVENT

END:VCALENDAR
