BEGIN:VCALENDAR
VERSION:2.0
PRODID:-//ChamberMaster//Event Calendar 2.0//EN
METHOD:PUBLISH
X-PUBLISHED-TTL:P3D
REFRESH-INTERVAL:P3D
CALSCALE:GREGORIAN
BEGIN:VEVENT
DTSTART:20260521T230000Z
DTEND:20260522T001500Z
X-MICROSOFT-CDO-ALLDAYEVENT:FALSE
SUMMARY:Independence Lost: Lives on the Edge of the American Revolution
DESCRIPTION:HNOC welcomes Pulitzer Prize-winning author Kathleen DuVal for a fascinating talk exploring the impact of the American Revolution on Louisiana and the Gulf South region. While the thirteen colonies fought with the British over taxes and parliamentary representation\, Spanish forces clashed with Britain's strained army to carve up the Gulf Coast across modern day Florida\, Alabama\, Mississippi\, and Louisiana. In this lesser-known front of the war\, both sides competed for the allegiances of the powerful Chickasaw\, Choctaw\, and Muscogee Creek nations and the inhabitants of New Orleans and other colonial cities all of whom had their own ideas about liberty and freedom. Following Dr. DuVal's talk\, HNOC Deputy Director Erin Greenwald will join her on stage for a conversation that explores the local implications of this overlooked theater of the revolution. This program is presented in conjunction with American Revolution: The Augmented Exhibition\, on view at HNOC until January 17\, 2027.
X-ALT-DESC;FMTTYPE=text/html:HNOC welcomes Pulitzer Prize-winning author Kathleen DuVal for a fascinating talk exploring the impact of the American Revolution on Louisiana and the Gulf South region. While the thirteen colonies fought with the British over taxes and parliamentary representation\, Spanish forces clashed with Britain&rsquo\;s strained army to carve up the Gulf Coast across modern day Florida\, Alabama\, Mississippi\, and Louisiana. In this lesser-known front of the war\, both sides competed for the allegiances of the powerful Chickasaw\, Choctaw\, and Muscogee Creek nations and the inhabitants of New Orleans and other colonial cities&mdash\;all of whom had their own ideas about liberty and freedom. Following Dr. DuVal&rsquo\;s talk\, HNOC Deputy Director Erin Greenwald will join her on stage for a conversation that explores the local implications of this overlooked theater of the revolution. This program is presented in conjunction with American Revolution: The Augmented Exhibition\, on view at HNOC until January 17\, 2027.
LOCATION:Historic New Orleans Collection 520 Royal St
UID:e.611.22402
SEQUENCE:3
DTSTAMP:20260422T190046Z
URL:https://www.neworleanschamber.org/events/details/independence-lost-lives-on-the-edge-of-the-american-revolution-22402
END:VEVENT

END:VCALENDAR
