BEGIN:VCALENDAR
VERSION:2.0
PRODID:-//ChamberMaster//Event Calendar 2.0//EN
METHOD:PUBLISH
X-PUBLISHED-TTL:P3D
REFRESH-INTERVAL:P3D
CALSCALE:GREGORIAN
BEGIN:VEVENT
DTSTART:20260508T220000Z
DTEND:20260509T000000Z
X-MICROSOFT-CDO-ALLDAYEVENT:FALSE
SUMMARY:HNOC Courtyard Sessions Concert Series
DESCRIPTION:In celebration of America's 250th anniversary\, HNOC kicks off its Courtyard Sessions concert series with Catie Rodgers and her Swing Orchestra featuring special guest Lena Prima! Bring your dancing shoes and enjoy tunes from the Great American Songbook\, including hits by Louis Prima\, in two back-to-back 45-minute sets. A cashless bar will be available (credit and debit card sales only). Admission is free for HNOC members and $10 for nonmembers. Standing room only\; seating is reserved for guests with accessibility needs. Courtyard Sessions are presented as part of French Quarter Fridays\, featuring live music\, happy hours\, and engaging activities in HNOC's French Quarter courtyard.
X-ALT-DESC;FMTTYPE=text/html:In celebration of America&rsquo\;s 250th anniversary\, HNOC kicks off its Courtyard Sessions concert series with Catie Rodgers and her Swing Orchestra featuring special guest Lena Prima! Bring your dancing shoes and enjoy tunes from the Great American Songbook\, including hits by Louis Prima\, in two back-to-back 45-minute sets. A cashless bar will be available (credit and debit card sales only). Admission is free for HNOC members and $10 for nonmembers. Standing room only\; seating is reserved for guests with accessibility needs. Courtyard Sessions are presented as part of French Quarter Fridays\, featuring live music\, happy hours\, and engaging activities in HNOC&rsquo\;s French Quarter courtyard.
LOCATION:Historic New Orleans Collection 520 Royal Street
UID:e.611.22401
SEQUENCE:3
DTSTAMP:20260422T185801Z
URL:https://www.neworleanschamber.org/events/details/hnoc-courtyard-sessions-concert-series-22401
END:VEVENT

END:VCALENDAR
