BEGIN:VCALENDAR
VERSION:2.0
PRODID:-//ChamberMaster//Event Calendar 2.0//EN
METHOD:PUBLISH
X-PUBLISHED-TTL:P3D
REFRESH-INTERVAL:P3D
CALSCALE:GREGORIAN
BEGIN:VEVENT
DTSTART:20191029T143000Z
DTEND:20191029T163000Z
X-MICROSOFT-CDO-ALLDAYEVENT:FALSE
SUMMARY:Employer Engagement Breakfast
DESCRIPTION:Employers are encouraged to enjoy an All-American breakfast while learning about the multiple recruiting services that are available at JOB1. Ask the Business Services Team questions about how they can assist with the success of your business and hear firsthand experiences from employers and job seekers.
X-ALT-DESC;FMTTYPE=text/html:Employers are encouraged to enjoy an All-American breakfast while learning about the multiple recruiting services that are available at JOB1. Ask the Business Services Team questions about how they can assist with the success of your business and hear firsthand experiences from employers and job seekers.
LOCATION:JOB1 Business and Career Solutions 3400 Tulane Ave. 2nd floor New Orleans\, LA. 70119
UID:e.611.14146
SEQUENCE:3
DTSTAMP:20260419T164407Z
URL:https://www.neworleanschamber.org/events/details/employer-engagement-breakfast-14146
END:VEVENT

END:VCALENDAR
