BEGIN:VCALENDAR
VERSION:2.0
PRODID:-//ChamberMaster//Event Calendar 2.0//EN
METHOD:PUBLISH
X-PUBLISHED-TTL:P3D
REFRESH-INTERVAL:P3D
CALSCALE:GREGORIAN
BEGIN:VEVENT
DTSTART:20210917T130000Z
DTEND:20210917T140000Z
X-MICROSOFT-CDO-ALLDAYEVENT:FALSE
SUMMARY:Coffee And Gratitude
DESCRIPTION:Coffee and Gratitude is a weekly virtual breakfast networking hour\, led by strategic business coach Mary Jane Walsh\, where we share gratitude and support and make new business connections and referral partnerships. The atmosphere is casual and there is no need to prepare anything. Just grab your coffee\, tea\, or morning treat and come ready to connect!
X-ALT-DESC;FMTTYPE=text/html:Coffee and Gratitude is a weekly virtual breakfast networking hour\, led by strategic business coach Mary Jane Walsh\, where we share gratitude and support and make new business connections and referral partnerships. The atmosphere is casual and there is no need to prepare anything. Just grab your coffee\, tea\, or morning treat and come ready to connect!
LOCATION:Please email maryjane@maryjanewalshthrive.com for the Zoom link.
UID:e.611.15347
SEQUENCE:3
DTSTAMP:20260420T005331Z
URL:https://www.neworleanschamber.org/events/details/coffee-and-gratitude-09-17-2021-15347
END:VEVENT

END:VCALENDAR
