BEGIN:VCALENDAR
VERSION:2.0
PRODID:-//ChamberMaster//Event Calendar 2.0//EN
METHOD:PUBLISH
X-PUBLISHED-TTL:P3D
REFRESH-INTERVAL:P3D
CALSCALE:GREGORIAN
BEGIN:VEVENT
DTSTART:20260829T150000Z
DTEND:20260830T220000Z
X-MICROSOFT-CDO-ALLDAYEVENT:FALSE
SUMMARY:Anime Conclave
DESCRIPTION:Join us at Hilton New Orleans Riverside for a weekend filled with all things anime. Get ready for a cosplay extravaganza\, panels for fans by fans\, artist alley\, and much more! Whether you're a seasoned otaku or just starting your anime journey\, there's something for everyone at Anime Conclave. Don't miss out on this opportunity to immerse yourself in the world of anime and connect with fellow fans. Grab your tickets now and get ready for an unforgettable experience!
X-ALT-DESC;FMTTYPE=text/html:Join us at Hilton New Orleans Riverside for a weekend filled with all things anime. Get ready for a cosplay extravaganza\, panels for fans by fans\, artist alley\, and much more! Whether you&#39\;re a seasoned otaku or just starting your anime journey\, there&#39\;s something for everyone at Anime Conclave. Don&#39\;t miss out on this opportunity to immerse yourself in the world of anime and connect with fellow fans. Grab your tickets now and get ready for an unforgettable experience!
LOCATION:Hilton New Orleans Riverside
UID:e.611.22255
SEQUENCE:3
DTSTAMP:20260419T124940Z
URL:https://www.neworleanschamber.org/events/details/anime-conclave-22255
END:VEVENT

END:VCALENDAR
