BEGIN:VCALENDAR
VERSION:2.0
PRODID:-//ChamberMaster//Event Calendar 2.0//EN
METHOD:PUBLISH
X-PUBLISHED-TTL:P3D
REFRESH-INTERVAL:P3D
CALSCALE:GREGORIAN
BEGIN:VEVENT
DTSTART:20260803T140000Z
DTEND:20260804T220000Z
X-MICROSOFT-CDO-ALLDAYEVENT:FALSE
SUMMARY:8th Global Conference on Gynecology\, Obstetrics & Women's Health
DESCRIPTION:We are thrilled to invite you to the 8th Global Conference on Gynecology\, Obstetrics & Women's Health 2026\, returning with even greater impact happening August 03 04\, 2026\, in the beautiful city of Zurich\, Switzerland\, and virtually from anywhere in the world! Dates: August 03 04\, 2026 Venue: Intercity Hotel Zurich Airport\, Zurich\, Switzerland + Virtual Theme: " Innovating for Equity: Redefining Women's Health in a Global Landscape" Website: https://gynecology.inovinemeetings.com This global gathering will spotlight bold strategies\, groundbreaking research\, and visionary approaches that are shaping the future of gynecology\, obstetrics\, and women's health. As healthcare continues to evolve\, this event serves as a vital platform to engage with the latest innovations\, clinical practices\, and policy updates driving progress in women's health. Conference Highlights:   CME & CPD Accredited   Keynote lectures from world-renowned experts   Scientific oral & poster presentations   Engaging panel discussions & specialized workshops   Live Q&A and unparalleled networking opportunities Whether you are a gynecologist\, obstetrician\, nurse\, midwife\, researcher\, policymaker\, or healthcare innovator\, this conference offers a unique opportunity to connect\, collaborate\, and contribute to global advancements in women's healthcare. Submit Abstract: https://gynecology.inovinemeetings.com/abstract-submission.php Register: https://gynecology.inovinemeetings.com/registration.php Contact Us: E: gynecologycongress@inovineconferences.com P: +1-662-601-8380 | W: +1(437)-887-9176 Join us in shaping the future of women's health in Zurich or online!
X-ALT-DESC;FMTTYPE=text/html:We are thrilled to invite you to the 8th Global Conference on Gynecology\, Obstetrics &amp\; Women&rsquo\;s Health 2026\, returning with even greater impact happening August 03&ndash\;04\, 2026\, in the beautiful city of Zurich\, Switzerland\, and virtually from anywhere in the world! Dates: August 03&ndash\;04\, 2026 Venue: Intercity Hotel Zurich Airport\, Zurich\, Switzerland + Virtual Theme: &quot\; Innovating for Equity: Redefining Women&#39\;s Health in a Global Landscape&quot\; Website: https://gynecology.inovinemeetings.com This global gathering will spotlight bold strategies\, groundbreaking research\, and visionary approaches that are shaping the future of gynecology\, obstetrics\, and women&rsquo\;s health. As healthcare continues to evolve\, this event serves as a vital platform to engage with the latest innovations\, clinical practices\, and policy updates driving progress in women&rsquo\;s health. Conference Highlights: &bull\; CME &amp\; CPD Accredited &bull\; Keynote lectures from world-renowned experts &bull\; Scientific oral &amp\; poster presentations &bull\; Engaging panel discussions &amp\; specialized workshops &bull\; Live Q&amp\;A and unparalleled networking opportunities Whether you are a gynecologist\, obstetrician\, nurse\, midwife\, researcher\, policymaker\, or healthcare innovator\, this conference offers a unique opportunity to connect\, collaborate\, and contribute to global advancements in women&rsquo\;s healthcare. Submit Abstract: https://gynecology.inovinemeetings.com/abstract-submission.php Register: https://gynecology.inovinemeetings.com/registration.php Contact Us: E: gynecologycongress@inovineconferences.com P: +1-662-601-8380 | W: +1(437)-887-9176 Join us in shaping the future of women&rsquo\;s health in Zurich or online!
LOCATION:Zurich\, Switzerland
UID:e.611.22406
SEQUENCE:3
DTSTAMP:20260423T184252Z
URL:https://www.neworleanschamber.org/events/details/8th-global-conference-on-gynecology-obstetrics-women-s-health-22406
END:VEVENT

END:VCALENDAR
