BEGIN:VCALENDAR
VERSION:2.0
PRODID:-//ChamberMaster//Event Calendar 2.0//EN
METHOD:PUBLISH
X-PUBLISHED-TTL:P3D
REFRESH-INTERVAL:P3D
CALSCALE:GREGORIAN
BEGIN:VEVENT
DTSTART:20191024T160000Z
DTEND:20191024T170000Z
X-MICROSOFT-CDO-ALLDAYEVENT:FALSE
SUMMARY:2019 Grand Opening: Cristy Cali
DESCRIPTION:Join us in celebrating the Grand Opening of Cristy Cali's flagship store in the historic Arts District of Magazine Street!\n\n\n\nTo honor this special endeavor\, all month long\, the respected jewelry brand is selling signature pink agate stone bracelets in partnership with Casting for Recovery to raise money and awareness for breast cancer.
X-ALT-DESC;FMTTYPE=text/html:<div style="text-align: center\;"><span style="font-family:tahoma\;">Join us in celebrating the Grand Opening of Cristy Cali&#39\;s flagship store in the historic Arts District of Magazine Street!<br />\n<br />\nTo honor this special endeavor\, all month long\, the respected jewelry brand is selling signature pink agate stone bracelets in partnership with Casting for Recovery to raise money and awareness for breast cancer.</span></div>\n
LOCATION:Cristy Cali 3110 Magazine Street New Orleans\, LA 70115
UID:e.611.14143
SEQUENCE:3
DTSTAMP:20260421T103400Z
URL:https://www.neworleanschamber.org/events/details/2019-grand-opening-cristy-cali-14143
END:VEVENT

END:VCALENDAR
