BEGIN:VCALENDAR
VERSION:2.0
PRODID:-//ChamberMaster//Event Calendar 2.0//EN
METHOD:PUBLISH
X-PUBLISHED-TTL:P3D
REFRESH-INTERVAL:P3D
CALSCALE:GREGORIAN
BEGIN:VEVENT
DTSTART:20251016T120000Z
DTEND:20251016T230000Z
X-MICROSOFT-CDO-ALLDAYEVENT:FALSE
SUMMARY:15th Annual NOMAR Economic & Real Estate Forecast Symposium
DESCRIPTION:15th Annual Economic & Real Estate Forecast Symposium\n\nJefferson Performing Arts Center\n\n6400 Airline Dr.\, Metairie\, LA 70003\n\nOn October 16\, 2025\, leading voices in economics\, development\, lending\, and real estate will convene at the beautiful\, modern Jefferson Performing Arts Center\, to explore the theme\n\nBreaking Ground: the Emergence of a New Economy.\n\nAt the 2025 Forecast\, you can expect this topic to be explored from multiple angles. We'll answer the "How\," "Why\," "What\," "Where\," and "Who" of the changing industry landscape of the GNO\, shedding light on our local and regional market current conditions and future trajectory\, thanks to our distinguished line-up of presenters and panelists. This year's program features six sessions\, a keynote delivered by the inimitable Newell Normand of WWL's the Newell Normand Show\, and up to 8 hours of high-quality continuing education*\, with opportunities for networking across the commercial and residential real estate sectors. Over the last 15 years\, the Forecast Symposium has emerged as the premier economic and real estate forum for our region.\n\nWe are offering two ticket types at this year's event. You may opt to purchase a full-day ticket or a half-day ticket. Focus on economics and regional market activity during our 4-hour Morning block with a slate of experts in economics\, development\, and lending\, or hear an overview from our keynote speaker\, a panel discussion highlighting infrastructure and construction projects\, and commercial sector updates from leading real estate voices during our 4-hour Afternoon session or stay for the full 8 hours of continuing education.\n\n*The program is approved for 8 hours of Real Estate license CE by the Louisiana Real Estate Commission\, Vendor #8970/136\, and pending approval for 8 hours of Appraiser's license CE by the Louisiana Real Estate Appraisers Board\, Vendor #5017.\n\nAs the premier economic and real estate forecasting conference for the New Orleans region\, the Forecast Symposium connects the real estate community. Our goal is to offer top-notch continuing education and deliver a comprehensive overview of local\, regional and national market conditions\, along with actionable insights that will equip you for success. Our carefully curated agenda covers a wide range of topics and a diverse array of speakers\, empowering attendees to meet the needs of consumers in a dynamic and evolving marketplace.
X-ALT-DESC;FMTTYPE=text/html:<p>15th Annual Economic &amp\; Real Estate Forecast Symposium</p>\n\n<h3>Jefferson Performing Arts Center</h3>\n\n<p><strong>6400 Airline Dr.\, Metairie\, LA 70003</strong></p>\n\n<p>On&nbsp\;<strong>October 16\, 2025</strong>\, leading voices in economics\, development\, lending\, and real estate will convene at the beautiful\, modern Jefferson Performing Arts Center\, to explore the theme</p>\n\n<p><strong>Breaking Ground: the Emergence of a New Economy.</strong></p>\n\n<p>At the 2025 Forecast\, you can expect this topic to be explored from multiple angles. We&#39\;ll answer the &quot\;How\,&quot\; &quot\;Why\,&quot\; &quot\;What\,&quot\; &quot\;Where\,&quot\; and &quot\;Who&quot\; of the changing industry landscape of the GNO\, shedding light on our local and regional market current conditions and future trajectory\, thanks to our distinguished line-up of presenters and panelists. This year&#39\;s program features six sessions\, a keynote delivered by the inimitable Newell Normand of WWL&#39\;s the Newell Normand Show\, and up to 8 hours of high-quality continuing education*\, with opportunities for networking across the commercial and residential real estate sectors. Over the last 15 years\, the Forecast Symposium has emerged as the premier economic and real estate forum for our region.</p>\n\n<p>We are offering two ticket types at this year&#39\;s event.&nbsp\;<strong>Y</strong><strong>ou may opt to purchase a full-day ticket or a half-day ticket.</strong>&nbsp\;Focus on economics and regional market activity during our 4-hour Morning block with a slate of experts in economics\, development\, and lending\, or hear an overview from our keynote speaker\, a panel discussion highlighting infrastructure and construction projects\, and commercial sector updates from leading real estate voices during our 4-hour Afternoon session&mdash\;or stay for the full 8 hours of continuing education.</p>\n\n<p><em>*The program is approved for 8 hours of Real Estate license CE by the Louisiana Real Estate Commission\, Vendor #8970/136\, and pending approval for 8 hours of Appraiser&#39\;s license CE by the Louisiana Real Estate Appraisers Board\, Vendor #5017.</em></p>\n\n<p><strong>As the premier economic and real estate forecasting conference for the New Orleans region\, the Forecast Symposium connects the real estate community.</strong>&nbsp\;Our goal is to offer top-notch continuing education and deliver a comprehensive overview of local\, regional and national market conditions\, along with actionable insights that will equip you for success. Our carefully curated agenda covers a wide range of topics and a diverse array of speakers\, empowering attendees to meet the needs of consumers in a dynamic and evolving marketplace.</p>\n
LOCATION:Jefferson Performing Arts Center 6400 Airline Dr.\, Metairie\, LA 70003
UID:e.611.22114
SEQUENCE:3
DTSTAMP:20260423T215331Z
URL:https://www.neworleanschamber.org/events/details/15th-annual-nomar-economic-real-estate-forecast-symposium-22114
END:VEVENT

END:VCALENDAR
